OziExplorer Map Data File Version 2.2
m56-29
Y:\ozi_map\work_map\2\m56-29.jpg
1 ,Map Code,
Pulkovo 1942 (1),, 0.0000, 0.0000,WGS 84
Reserved 1
Reserved 2
Magnetic Variation,,,E
Map Projection,Transverse Mercator,PolyCal,Yes,AutoCalOnly,No,BSBUseWPX,No
Point01,xy, 210, 151,in, deg, 49, 20.0000,N, 154, 0.0000,E, grid, , , ,N
Point02,xy, 2358, 163,in, deg, 49, 20.0000,N, 154, 30.0000,E, grid, , , ,N
Point03,xy, 4502, 162,in, deg, 49, 20.0000,N, 155, 0.0000,E, grid, , , ,N
Point04,xy, 189, 2341,in, deg, 49, 0.0000,N, 154, 0.0000,E, grid, , , ,N
Point05,xy, 2348, 2355,in, deg, 49, 0.0000,N, 154, 30.0000,E, grid, , , ,N
Point06,xy, 4509, 2354,in, deg, 49, 0.0000,N, 155, 0.0000,E, grid, , , ,N
Point07,xy, 162, 4529,in, deg, 48, 40.0000,N, 154, 0.0000,E, grid, , , ,N
Point08,xy, 2338, 4544,in, deg, 48, 40.0000,N, 154, 30.0000,E, grid, , , ,N
Point09,xy, 4514, 4545,in, deg, 48, 40.0000,N, 155, 0.0000,E, grid, , , ,N
Point10,xy, , ,in, deg, , ,, , ,, grid, , , ,N
Point11,xy, , ,in, deg, , ,, , ,, grid, , , ,N
Point12,xy, , ,in, deg, , ,, , ,, grid, , , ,N
Point13,xy, , ,in, deg, , ,, , ,, grid, , , ,N
Point14,xy, , ,in, deg, , ,, , ,, grid, , , ,N
Point15,xy, , ,in, deg, , ,, , ,, grid, , , ,N
Point16,xy, , ,in, deg, , ,, , ,, grid, , , ,N
Point17,xy, , ,in, deg, , ,, , ,, grid, , , ,N
Point18,xy, , ,in, deg, , ,, , ,, grid, , , ,N
Point19,xy, , ,in, deg, , ,, , ,, grid, , , ,N
Point20,xy, , ,in, deg, , ,, , ,, grid, , , ,N
Point21,xy, , ,in, deg, , ,, , ,, grid, , , ,N
Point22,xy, , ,in, deg, , ,, , ,, grid, , , ,N
Point23,xy, , ,in, deg, , ,, , ,, grid, , , ,N
Point24,xy, , ,in, deg, , ,, , ,, grid, , , ,N
Point25,xy, , ,in, deg, , ,, , ,, grid, , , ,N
Point26,xy, , ,in, deg, , ,, , ,, grid, , , ,N
Point27,xy, , ,in, deg, , ,, , ,, grid, , , ,N
Point28,xy, , ,in, deg, , ,, , ,, grid, , , ,N
Point29,xy, , ,in, deg, , ,, , ,, grid, , , ,N
Point30,xy, , ,in, deg, , ,, , ,, grid, , , ,N
Projection Setup, 0.000000000, 153.000000000, 1.000000000, 26500000.00, 0.00,,,,,
Map Feature = MF ; Map Comment = MC These follow if they exist
Track File = TF These follow if they exist
Moving Map Parameters = MM? These follow if they exist
MM0,Yes
MMPNUM,4
MMPXY,1,207,148
MMPXY,2,4504,160
MMPXY,3,4516,4547
MMPXY,4,160,4532
MMPLL,1, 153.999084, 49.333771
MMPLL,2, 155.000419, 49.333599
MMPLL,3, 155.000563, 48.666349
MMPLL,4, 153.999495, 48.666218
MM1B,16.924235
Other Grid Setup
GRGRID,Yes,4 Km,No,16711680,255,4 Km,0,16777215,8,0,Yes,Yes,No,x
MOP,Map Open Position,0,0
IWH,Map Image Width/Height,4673,4692
