OziExplorer Map Data File Version 2.2
m56-24
Y:\ozi_map\work_map\2\m56-24.jpg
1 ,Map Code,
Pulkovo 1942 (1),, 0.0000, 0.0000,WGS 84
Reserved 1
Reserved 2
Magnetic Variation,,,E
Map Projection,Transverse Mercator,PolyCal,Yes,AutoCalOnly,No,BSBUseWPX,No
Point01,xy, 181, 175,in, deg, 50, 0.0000,N, 155, 0.0000,E, grid, , , ,N
Point02,xy, 2299, 170,in, deg, 50, 0.0000,N, 155, 30.0000,E, grid, , , ,N
Point03,xy, 4417, 152,in, deg, 50, 0.0000,N, 156, 0.0000,E, grid, , , ,N
Point04,xy, 180, 2366,in, deg, 49, 40.0000,N, 155, 0.0000,E, grid, , , ,N
Point05,xy, 2310, 2362,in, deg, 49, 40.0000,N, 155, 30.0000,E, grid, , , ,N
Point06,xy, 4444, 2345,in, deg, 49, 40.0000,N, 156, 0.0000,E, grid, , , ,N
Point07,xy, 174, 4557,in, deg, 49, 20.0000,N, 155, 0.0000,E, grid, , , ,N
Point08,xy, 2322, 4556,in, deg, 49, 20.0000,N, 155, 30.0000,E, grid, , , ,N
Point09,xy, 4469, 4539,in, deg, 49, 20.0000,N, 156, 0.0000,E, grid, , , ,N
Point10,xy, , ,in, deg, , ,, , ,, grid, , , ,N
Point11,xy, , ,in, deg, , ,, , ,, grid, , , ,N
Point12,xy, , ,in, deg, , ,, , ,, grid, , , ,N
Point13,xy, , ,in, deg, , ,, , ,, grid, , , ,N
Point14,xy, , ,in, deg, , ,, , ,, grid, , , ,N
Point15,xy, , ,in, deg, , ,, , ,, grid, , , ,N
Point16,xy, , ,in, deg, , ,, , ,, grid, , , ,N
Point17,xy, , ,in, deg, , ,, , ,, grid, , , ,N
Point18,xy, , ,in, deg, , ,, , ,, grid, , , ,N
Point19,xy, , ,in, deg, , ,, , ,, grid, , , ,N
Point20,xy, , ,in, deg, , ,, , ,, grid, , , ,N
Point21,xy, , ,in, deg, , ,, , ,, grid, , , ,N
Point22,xy, , ,in, deg, , ,, , ,, grid, , , ,N
Point23,xy, , ,in, deg, , ,, , ,, grid, , , ,N
Point24,xy, , ,in, deg, , ,, , ,, grid, , , ,N
Point25,xy, , ,in, deg, , ,, , ,, grid, , , ,N
Point26,xy, , ,in, deg, , ,, , ,, grid, , , ,N
Point27,xy, , ,in, deg, , ,, , ,, grid, , , ,N
Point28,xy, , ,in, deg, , ,, , ,, grid, , , ,N
Point29,xy, , ,in, deg, , ,, , ,, grid, , , ,N
Point30,xy, , ,in, deg, , ,, , ,, grid, , , ,N
Projection Setup, 0.000000000, 153.000000000, 1.000000000, 26500000.00, 0.00,,,,,
Map Feature = MF ; Map Comment = MC These follow if they exist
Track File = TF These follow if they exist
Moving Map Parameters = MM? These follow if they exist
MM0,Yes
MMPNUM,4
MMPXY,1,178,173
MMPXY,2,4419,149
MMPXY,3,4471,4541
MMPXY,4,172,4558
MMPLL,1, 154.999191, 50.000291
MMPLL,2, 156.000504, 50.000415
MMPLL,3, 156.000443, 49.333064
MMPLL,4, 154.999395, 49.333242
MM1B,16.918888
Other Grid Setup
GRGRID,Yes,4 Km,No,16711680,255,4 Km,0,16777215,8,0,Yes,Yes,No,x
MOP,Map Open Position,0,0
IWH,Map Image Width/Height,4641,4720
