OziExplorer Map Data File Version 2.2
m56-18
Y:\ozi_map\work_map\2\m56-18.jpg
1 ,Map Code,
Pulkovo 1942 (1),, 0.0000, 0.0000,WGS 84
Reserved 1
Reserved 2
Magnetic Variation,,,E
Map Projection,Transverse Mercator,PolyCal,Yes,AutoCalOnly,No,BSBUseWPX,No
Point01,xy, 179, 169,in, deg, 50, 40.0000,N, 155, 0.0000,E, grid, , , ,N
Point02,xy, 2273, 165,in, deg, 50, 40.0000,N, 155, 30.0000,E, grid, , , ,N
Point03,xy, 4363, 144,in, deg, 50, 40.0000,N, 156, 0.0000,E, grid, , , ,N
Point04,xy, 180, 2359,in, deg, 50, 20.0000,N, 155, 0.0000,E, grid, , , ,N
Point05,xy, 2281, 2357,in, deg, 50, 20.0000,N, 155, 30.0000,E, grid, , , ,N
Point06,xy, 4390, 2337,in, deg, 50, 20.0000,N, 156, 0.0000,E, grid, , , ,N
Point07,xy, 174, 4554,in, deg, 50, 0.0000,N, 155, 0.0000,E, grid, , , ,N
Point08,xy, 2295, 4550,in, deg, 50, 0.0000,N, 155, 30.0000,E, grid, , , ,N
Point09,xy, 4415, 4528,in, deg, 50, 0.0000,N, 156, 0.0000,E, grid, , , ,N
Point10,xy, , ,in, deg, , ,, , ,, grid, , , ,N
Point11,xy, , ,in, deg, , ,, , ,, grid, , , ,N
Point12,xy, , ,in, deg, , ,, , ,, grid, , , ,N
Point13,xy, , ,in, deg, , ,, , ,, grid, , , ,N
Point14,xy, , ,in, deg, , ,, , ,, grid, , , ,N
Point15,xy, , ,in, deg, , ,, , ,, grid, , , ,N
Point16,xy, , ,in, deg, , ,, , ,, grid, , , ,N
Point17,xy, , ,in, deg, , ,, , ,, grid, , , ,N
Point18,xy, , ,in, deg, , ,, , ,, grid, , , ,N
Point19,xy, , ,in, deg, , ,, , ,, grid, , , ,N
Point20,xy, , ,in, deg, , ,, , ,, grid, , , ,N
Point21,xy, , ,in, deg, , ,, , ,, grid, , , ,N
Point22,xy, , ,in, deg, , ,, , ,, grid, , , ,N
Point23,xy, , ,in, deg, , ,, , ,, grid, , , ,N
Point24,xy, , ,in, deg, , ,, , ,, grid, , , ,N
Point25,xy, , ,in, deg, , ,, , ,, grid, , , ,N
Point26,xy, , ,in, deg, , ,, , ,, grid, , , ,N
Point27,xy, , ,in, deg, , ,, , ,, grid, , , ,N
Point28,xy, , ,in, deg, , ,, , ,, grid, , , ,N
Point29,xy, , ,in, deg, , ,, , ,, grid, , , ,N
Point30,xy, , ,in, deg, , ,, , ,, grid, , , ,N
Projection Setup, 0.000000000, 153.000000000, 1.000000000, 26500000.00, 0.00,,,,,
Map Feature = MF ; Map Comment = MC These follow if they exist
Track File = TF These follow if they exist
Moving Map Parameters = MM? These follow if they exist
MM0,Yes
MMPNUM,4
MMPXY,1,177,166
MMPXY,2,4364,143
MMPXY,3,4418,4530
MMPXY,4,171,4555
MMPLL,1, 154.999219, 50.667018
MMPLL,2, 156.000148, 50.666892
MMPLL,3, 156.000724, 49.999784
MMPLL,4, 154.999112, 49.999765
MM1B,16.897966
Other Grid Setup
GRGRID,Yes,4 Km,No,16711680,255,4 Km,0,16777215,8,0,Yes,Yes,No,x
MOP,Map Open Position,0,0
IWH,Map Image Width/Height,4569,4704
