OziExplorer Map Data File Version 2.2
m56-17
Y:\ozi_map\work_map\2\m56-17.jpg
1 ,Map Code,
Pulkovo 1942 (1),, 0.0000, 0.0000,WGS 84
Reserved 1
Reserved 2
Magnetic Variation,,,E
Map Projection,Transverse Mercator,PolyCal,Yes,AutoCalOnly,No,BSBUseWPX,No
Point01,xy, 190, 168,in, deg, 50, 40.0000,N, 154, 0.0000,E, grid, , , ,N
Point02,xy, 2275, 174,in, deg, 50, 40.0000,N, 154, 30.0000,E, grid, , , ,N
Point03,xy, 4364, 168,in, deg, 50, 40.0000,N, 155, 0.0000,E, grid, , , ,N
Point04,xy, 175, 2358,in, deg, 50, 20.0000,N, 154, 0.0000,E, grid, , , ,N
Point05,xy, 2274, 2364,in, deg, 50, 20.0000,N, 154, 30.0000,E, grid, , , ,N
Point06,xy, 4377, 2361,in, deg, 50, 20.0000,N, 155, 0.0000,E, grid, , , ,N
Point07,xy, 155, 4545,in, deg, 50, 0.0000,N, 154, 0.0000,E, grid, , , ,N
Point08,xy, 2270, 4552,in, deg, 50, 0.0000,N, 154, 30.0000,E, grid, , , ,N
Point09,xy, 4387, 4550,in, deg, 50, 0.0000,N, 155, 0.0000,E, grid, , , ,N
Point10,xy, , ,in, deg, , ,, , ,, grid, , , ,N
Point11,xy, , ,in, deg, , ,, , ,, grid, , , ,N
Point12,xy, , ,in, deg, , ,, , ,, grid, , , ,N
Point13,xy, , ,in, deg, , ,, , ,, grid, , , ,N
Point14,xy, , ,in, deg, , ,, , ,, grid, , , ,N
Point15,xy, , ,in, deg, , ,, , ,, grid, , , ,N
Point16,xy, , ,in, deg, , ,, , ,, grid, , , ,N
Point17,xy, , ,in, deg, , ,, , ,, grid, , , ,N
Point18,xy, , ,in, deg, , ,, , ,, grid, , , ,N
Point19,xy, , ,in, deg, , ,, , ,, grid, , , ,N
Point20,xy, , ,in, deg, , ,, , ,, grid, , , ,N
Point21,xy, , ,in, deg, , ,, , ,, grid, , , ,N
Point22,xy, , ,in, deg, , ,, , ,, grid, , , ,N
Point23,xy, , ,in, deg, , ,, , ,, grid, , , ,N
Point24,xy, , ,in, deg, , ,, , ,, grid, , , ,N
Point25,xy, , ,in, deg, , ,, , ,, grid, , , ,N
Point26,xy, , ,in, deg, , ,, , ,, grid, , , ,N
Point27,xy, , ,in, deg, , ,, , ,, grid, , , ,N
Point28,xy, , ,in, deg, , ,, , ,, grid, , , ,N
Point29,xy, , ,in, deg, , ,, , ,, grid, , , ,N
Point30,xy, , ,in, deg, , ,, , ,, grid, , , ,N
Projection Setup, 0.000000000, 153.000000000, 1.000000000, 26500000.00, 0.00,,,,,
Map Feature = MF ; Map Comment = MC These follow if they exist
Track File = TF These follow if they exist
Moving Map Parameters = MM? These follow if they exist
MM0,Yes
MMPNUM,4
MMPXY,1,187,166
MMPXY,2,4366,167
MMPXY,3,4390,4552
MMPXY,4,153,4546
MMPLL,1, 153.999263, 50.667005
MMPLL,2, 155.000554, 50.666880
MMPLL,3, 155.000693, 49.999683
MMPLL,4, 153.999432, 49.999808
MM1B,16.932154
Other Grid Setup
GRGRID,Yes,4 Km,No,16711680,255,4 Km,0,16777215,8,0,Yes,Yes,No,x
MOP,Map Open Position,0,0
IWH,Map Image Width/Height,4537,4696
